{
 "currentVersion": 10.81,
 "serviceDescription": "Pictometry 4-inch",
 "mapName": "Layers",
 "description": "",
 "copyrightText": "",
 "supportsDynamicLayers": true,
 "layers": [
  {
   "id": 0,
   "name": "2011Pictometry.ecw",
   "parentLayerId": -1,
   "defaultVisibility": true,
   "subLayerIds": null,
   "minScale": 0,
   "maxScale": 0,
   "type": "Raster Layer"
  }
 ],
 "tables": [],
 "spatialReference": {
  "wkid": 102659,
  "latestWkid": 2237
 },
 "singleFusedMapCache": true,
 "tileInfo": {
  "rows": 512,
  "cols": 512,
  "dpi": 96,
  "format": "PNG",
  "compressionQuality": 0,
  "origin": {
   "x": -17791300,
   "y": 23981100
  },
  "spatialReference": {
   "wkid": 102659,
   "latestWkid": 2237
  },
  "lods": [
   {
    "level": 0,
    "resolution": 347.22222222222223,
    "scale": 400000
   },
   {
    "level": 1,
    "resolution": 173.61111111111111,
    "scale": 200000
   },
   {
    "level": 2,
    "resolution": 86.80555555555556,
    "scale": 100000
   },
   {
    "level": 3,
    "resolution": 43.40277777777778,
    "scale": 50000
   },
   {
    "level": 4,
    "resolution": 20.833333333333332,
    "scale": 24000
   },
   {
    "level": 5,
    "resolution": 10.416666666666666,
    "scale": 12000
   },
   {
    "level": 6,
    "resolution": 5.208333333333333,
    "scale": 6000
   },
   {
    "level": 7,
    "resolution": 2.6041666666666665,
    "scale": 3000
   },
   {
    "level": 8,
    "resolution": 1.3888888888888888,
    "scale": 1600
   },
   {
    "level": 9,
    "resolution": 0.6944444444444444,
    "scale": 800
   },
   {
    "level": 10,
    "resolution": 0.3472222222222222,
    "scale": 400
   },
   {
    "level": 11,
    "resolution": 0.1736111111111111,
    "scale": 200
   }
  ]
 },
 "initialExtent": {
  "xmin": 553607.968082911,
  "ymin": 753038.0692900462,
  "xmax": 797097.5514162442,
  "ymax": 905902.6526233795,
  "spatialReference": {
   "wkid": 102659,
   "latestWkid": 2237
  }
 },
 "fullExtent": {
  "xmin": 554999.9933976015,
  "ymin": 719999.9875028931,
  "xmax": 799999.9932535432,
  "ymax": 894999.9874001129,
  "spatialReference": {
   "wkid": 102659,
   "latestWkid": 2237
  }
 },
 "minScale": 400000,
 "maxScale": 200,
 "units": "esriFeet",
 "supportedImageFormatTypes": "PNG32,PNG24,PNG,JPG,DIB,TIFF,EMF,PS,PDF,GIF,SVG,SVGZ,BMP",
 "documentInfo": {
  "Title": "AP2011Pict",
  "Author": "hoskissonb",
  "Comments": "Pictometry 4-inch",
  "Subject": "2011 Imagery",
  "Category": "",
  "AntialiasingMode": "None",
  "TextAntialiasingMode": "Force",
  "Keywords": "Imagery"
 },
 "capabilities": "Map,Query,Data",
 "supportedQueryFormats": "JSON, geoJSON",
 "exportTilesAllowed": false,
 "referenceScale": 0,
 "datumTransformations": [
  {
   "geoTransforms": [
    {
     "wkid": 108001,
     "latestWkid": 1241,
     "transformForward": true,
     "name": "NAD_1927_To_NAD_1983_NADCON"
    }
   ]
  },
  {
   "geoTransforms": [
    {
     "wkid": 108001,
     "latestWkid": 1241,
     "transformForward": false,
     "name": "NAD_1927_To_NAD_1983_NADCON"
    }
   ]
  }
 ],
 "supportsDatumTransformation": true,
 "maxRecordCount": 1000,
 "maxImageHeight": 4096,
 "maxImageWidth": 4096,
 "supportedExtensions": "KmlServer",
 "resampling": false
}
